Package: flowTrans Version: 1.52.0 Command: /home/biocbuild/bbs-3.17-bioc/R/bin/R CMD build --keep-empty-dirs --no-resave-data flowTrans StartedAt: 2023-10-15 16:50:22 -0400 (Sun, 15 Oct 2023) EndedAt: 2023-10-15 16:50:42 -0400 (Sun, 15 Oct 2023) EllapsedTime: 19.8 seconds RetCode: 0 Status: OK PackageFile: flowTrans_1.52.0.tar.gz PackageFileSize: 371.2 KiB