Package: flowTrans Version: 1.52.0 Command: /home/biocbuild/bbs-3.17-bioc/R/bin/R CMD check --install=check:flowTrans.install-out.txt --library=/home/biocbuild/bbs-3.17-bioc/R/site-library --timings flowTrans_1.52.0.tar.gz StartedAt: 2023-10-15 21:24:58 -0400 (Sun, 15 Oct 2023) EndedAt: 2023-10-15 21:26:21 -0400 (Sun, 15 Oct 2023) EllapsedTime: 82.1 seconds RetCode: 0 Status: OK CheckDir: flowTrans.Rcheck Warnings: 0