Package: flowTrans Version: 1.52.0 Command: /home/biocbuild/bbs-3.17-bioc/R/bin/R CMD INSTALL flowTrans StartedAt: 2023-10-15 15:15:38 -0400 (Sun, 15 Oct 2023) EndedAt: 2023-10-15 15:15:46 -0400 (Sun, 15 Oct 2023) EllapsedTime: 8.1 seconds RetCode: 0 Status: OK