Package: flowVS Version: 1.32.0 Command: /home/biocbuild/bbs-3.17-bioc/R/bin/R CMD INSTALL flowVS StartedAt: 2023-10-15 15:48:16 -0400 (Sun, 15 Oct 2023) EndedAt: 2023-10-15 15:48:32 -0400 (Sun, 15 Oct 2023) EllapsedTime: 16.2 seconds RetCode: 0 Status: OK