Package: flowVS Version: 1.32.0 Command: chmod a+r flowVS -R && F:\biocbuild\bbs-3.17-bioc\R\bin\R.exe CMD build --keep-empty-dirs --no-resave-data flowVS StartedAt: 2023-10-15 19:20:10 -0400 (Sun, 15 Oct 2023) EndedAt: 2023-10-15 19:22:57 -0400 (Sun, 15 Oct 2023) EllapsedTime: 166.5 seconds RetCode: 0 Status: OK PackageFile: flowVS_1.32.0.tar.gz PackageFileSize: 3.695 MiB