Package: flowWorkspace Version: 4.12.2 Command: /Library/Frameworks/R.framework/Resources/bin/R CMD INSTALL flowWorkspace StartedAt: 2023-10-15 15:22:17 -0400 (Sun, 15 Oct 2023) EndedAt: 2023-10-15 15:29:01 -0400 (Sun, 15 Oct 2023) EllapsedTime: 404.6 seconds RetCode: 0 Status: OK