Package: flowcatchR Version: 1.34.0 Command: /Library/Frameworks/R.framework/Resources/bin/R CMD build --keep-empty-dirs --no-resave-data flowcatchR StartedAt: 2023-10-15 18:21:05 -0400 (Sun, 15 Oct 2023) EndedAt: 2023-10-15 18:22:28 -0400 (Sun, 15 Oct 2023) EllapsedTime: 82.2 seconds RetCode: 0 Status: OK PackageFile: flowcatchR_1.34.0.tar.gz PackageFileSize: 6.701 MiB