Package: flowcatchR Version: 1.34.0 Command: /Library/Frameworks/R.framework/Resources/bin/R CMD check --install=check:flowcatchR.install-out.txt --library=/Library/Frameworks/R.framework/Resources/library --no-vignettes --timings flowcatchR_1.34.0.tar.gz StartedAt: 2023-10-16 01:43:43 -0400 (Mon, 16 Oct 2023) EndedAt: 2023-10-16 01:46:38 -0400 (Mon, 16 Oct 2023) EllapsedTime: 174.9 seconds RetCode: 0 Status: OK CheckDir: flowcatchR.Rcheck Warnings: 0