Package: gaggle Version: 1.68.0 Command: rm -rf gaggle.buildbin-libdir && mkdir gaggle.buildbin-libdir && /Users/biocbuild/BBS/utils/build-universal.sh gaggle_1.68.0.tar.gz /Library/Frameworks/R.framework/Resources/bin/R gaggle.buildbin-libdir StartedAt: 2023-10-16 09:26:03 -0400 (Mon, 16 Oct 2023) EndedAt: 2023-10-16 09:26:18 -0400 (Mon, 16 Oct 2023) EllapsedTime: 15.2 seconds RetCode: 0 Status: OK PackageFile: gaggle_1.68.0.tgz PackageFileSize: 302.9 KiB