Package: gcrma Version: 2.72.0 Command: /Library/Frameworks/R.framework/Resources/bin/R CMD build --keep-empty-dirs --no-resave-data gcrma StartedAt: 2023-10-15 18:27:10 -0400 (Sun, 15 Oct 2023) EndedAt: 2023-10-15 18:27:53 -0400 (Sun, 15 Oct 2023) EllapsedTime: 43.0 seconds RetCode: 0 Status: OK PackageFile: gcrma_2.72.0.tar.gz PackageFileSize: 289.4 KiB