Package: gcrma Version: 2.72.0 Command: rm -rf gcrma.buildbin-libdir && mkdir gcrma.buildbin-libdir && F:\biocbuild\bbs-3.17-bioc\R\bin\R.exe CMD INSTALL --build --library=gcrma.buildbin-libdir gcrma_2.72.0.tar.gz StartedAt: 2023-10-16 08:49:58 -0400 (Mon, 16 Oct 2023) EndedAt: 2023-10-16 08:50:15 -0400 (Mon, 16 Oct 2023) EllapsedTime: 17.3 seconds RetCode: 0 Status: OK PackageFile: gcrma_2.72.0.zip PackageFileSize: 258.2 KiB