Package: gcrma Version: 2.72.0 Command: chmod a+r gcrma -R && F:\biocbuild\bbs-3.17-bioc\R\bin\R.exe CMD build --keep-empty-dirs --no-resave-data gcrma StartedAt: 2023-10-15 19:23:57 -0400 (Sun, 15 Oct 2023) EndedAt: 2023-10-15 19:24:19 -0400 (Sun, 15 Oct 2023) EllapsedTime: 21.3 seconds RetCode: 0 Status: OK PackageFile: gcrma_2.72.0.tar.gz PackageFileSize: 150.9 KiB