Package: geneClassifiers Version: 1.24.0 Command: F:\biocbuild\bbs-3.17-bioc\R\bin\R.exe CMD check --no-multiarch --install=check:geneClassifiers.install-out.txt --library=F:\biocbuild\bbs-3.17-bioc\R\library --no-vignettes --timings geneClassifiers_1.24.0.tar.gz StartedAt: 2023-10-16 02:25:23 -0400 (Mon, 16 Oct 2023) EndedAt: 2023-10-16 02:26:05 -0400 (Mon, 16 Oct 2023) EllapsedTime: 41.5 seconds RetCode: 0 Status: OK CheckDir: geneClassifiers.Rcheck Warnings: 0