Package: geneplast Version: 1.26.1 Command: /home/biocbuild/bbs-3.17-bioc/R/bin/R CMD check --install=check:geneplast.install-out.txt --library=/home/biocbuild/bbs-3.17-bioc/R/site-library --timings geneplast_1.26.1.tar.gz StartedAt: 2023-10-15 21:31:53 -0400 (Sun, 15 Oct 2023) EndedAt: 2023-10-15 21:32:49 -0400 (Sun, 15 Oct 2023) EllapsedTime: 56.3 seconds RetCode: 0 Status: OK CheckDir: geneplast.Rcheck Warnings: 0