Package: geneplast Version: 1.26.1 Command: rm -rf geneplast.buildbin-libdir && mkdir geneplast.buildbin-libdir && F:\biocbuild\bbs-3.17-bioc\R\bin\R.exe CMD INSTALL --build --library=geneplast.buildbin-libdir geneplast_1.26.1.tar.gz StartedAt: 2023-10-16 08:50:37 -0400 (Mon, 16 Oct 2023) EndedAt: 2023-10-16 08:50:48 -0400 (Mon, 16 Oct 2023) EllapsedTime: 11.5 seconds RetCode: 0 Status: OK PackageFile: geneplast_1.26.1.zip PackageFileSize: 4.06 MiB