Package: geneplast Version: 1.26.1 Command: F:\biocbuild\bbs-3.17-bioc\R\bin\R.exe CMD INSTALL geneplast StartedAt: 2023-10-15 16:12:40 -0400 (Sun, 15 Oct 2023) EndedAt: 2023-10-15 16:12:49 -0400 (Sun, 15 Oct 2023) EllapsedTime: 8.4 seconds RetCode: 0 Status: OK