Package: getDEE2 Version: 1.10.0 Command: /Library/Frameworks/R.framework/Resources/bin/R CMD check --install=check:getDEE2.install-out.txt --library=/Library/Frameworks/R.framework/Resources/library --no-vignettes --timings getDEE2_1.10.0.tar.gz StartedAt: 2023-10-16 02:10:40 -0400 (Mon, 16 Oct 2023) EndedAt: 2023-10-16 02:18:10 -0400 (Mon, 16 Oct 2023) EllapsedTime: 450.3 seconds RetCode: 0 Status: OK CheckDir: getDEE2.Rcheck Warnings: 0