Package: ggbio Version: 1.48.0 Command: chmod a+r ggbio -R && F:\biocbuild\bbs-3.17-bioc\R\bin\R.exe CMD build --keep-empty-dirs --no-resave-data ggbio StartedAt: 2023-10-15 19:31:54 -0400 (Sun, 15 Oct 2023) EndedAt: 2023-10-15 19:38:35 -0400 (Sun, 15 Oct 2023) EllapsedTime: 401.0 seconds RetCode: 0 Status: OK PackageFile: ggbio_1.48.0.tar.gz PackageFileSize: 3.107 MiB