Package: ggmsa Version: 1.6.0 Command: rm -rf ggmsa.buildbin-libdir && mkdir ggmsa.buildbin-libdir && /Users/biocbuild/BBS/utils/build-universal.sh ggmsa_1.6.0.tar.gz /Library/Frameworks/R.framework/Resources/bin/R ggmsa.buildbin-libdir StartedAt: 2023-10-16 09:29:17 -0400 (Mon, 16 Oct 2023) EndedAt: 2023-10-16 09:30:19 -0400 (Mon, 16 Oct 2023) EllapsedTime: 62.0 seconds RetCode: 0 Status: OK PackageFile: ggmsa_1.6.0.tgz PackageFileSize: 2.564 MiB