Package: ggmsa Version: 1.6.0 Command: rm -rf ggmsa.buildbin-libdir && mkdir ggmsa.buildbin-libdir && F:\biocbuild\bbs-3.17-bioc\R\bin\R.exe CMD INSTALL --build --library=ggmsa.buildbin-libdir ggmsa_1.6.0.tar.gz StartedAt: 2023-10-16 08:52:35 -0400 (Mon, 16 Oct 2023) EndedAt: 2023-10-16 08:53:01 -0400 (Mon, 16 Oct 2023) EllapsedTime: 26.9 seconds RetCode: 0 Status: OK PackageFile: ggmsa_1.6.0.zip PackageFileSize: 2.483 MiB