Package: ggtree Version: 3.8.2 Command: /home/biocbuild/bbs-3.17-bioc/R/bin/R CMD check --install=check:ggtree.install-out.txt --library=/home/biocbuild/bbs-3.17-bioc/R/site-library --timings ggtree_3.8.2.tar.gz StartedAt: 2023-10-15 21:42:18 -0400 (Sun, 15 Oct 2023) EndedAt: 2023-10-15 21:43:21 -0400 (Sun, 15 Oct 2023) EllapsedTime: 63.3 seconds RetCode: 0 Status: OK CheckDir: ggtree.Rcheck Warnings: 0