Package: glmSparseNet Version: 1.18.0 Command: rm -rf glmSparseNet.buildbin-libdir && mkdir glmSparseNet.buildbin-libdir && F:\biocbuild\bbs-3.17-bioc\R\bin\R.exe CMD INSTALL --build --library=glmSparseNet.buildbin-libdir glmSparseNet_1.18.0.tar.gz StartedAt: 2023-10-16 08:53:07 -0400 (Mon, 16 Oct 2023) EndedAt: 2023-10-16 08:53:39 -0400 (Mon, 16 Oct 2023) EllapsedTime: 32.6 seconds RetCode: 0 Status: OK PackageFile: glmSparseNet_1.18.0.zip PackageFileSize: 2.069 MiB