Package: gmapR Version: 1.42.0 Command: /home/biocbuild/bbs-3.17-bioc/R/bin/R CMD build --keep-empty-dirs --no-resave-data gmapR StartedAt: 2023-10-15 16:58:04 -0400 (Sun, 15 Oct 2023) EndedAt: 2023-10-15 17:05:14 -0400 (Sun, 15 Oct 2023) EllapsedTime: 430.0 seconds RetCode: 0 Status: OK PackageFile: gmapR_1.42.0.tar.gz PackageFileSize: 29.04 MiB