Package: gmapR Version: 1.42.0 Command: /home/biocbuild/bbs-3.17-bioc/R/bin/R CMD check --install=check:gmapR.install-out.txt --library=/home/biocbuild/bbs-3.17-bioc/R/site-library --timings gmapR_1.42.0.tar.gz StartedAt: 2023-10-15 21:43:56 -0400 (Sun, 15 Oct 2023) EndedAt: 2023-10-15 21:51:46 -0400 (Sun, 15 Oct 2023) EllapsedTime: 469.9 seconds RetCode: 0 Status: WARNINGS CheckDir: gmapR.Rcheck Warnings: 7