Package: gmoviz Version: 1.12.0 Command: /Library/Frameworks/R.framework/Resources/bin/R CMD check --install=check:gmoviz.install-out.txt --library=/Library/Frameworks/R.framework/Resources/library --no-vignettes --timings gmoviz_1.12.0.tar.gz StartedAt: 2023-10-16 02:17:50 -0400 (Mon, 16 Oct 2023) EndedAt: 2023-10-16 02:29:12 -0400 (Mon, 16 Oct 2023) EllapsedTime: 682.3 seconds RetCode: 0 Status: OK CheckDir: gmoviz.Rcheck Warnings: 0