Package: graph Version: 1.78.0 Command: rm -rf graph.buildbin-libdir && mkdir graph.buildbin-libdir && /Users/biocbuild/BBS/utils/build-universal.sh graph_1.78.0.tar.gz /Library/Frameworks/R.framework/Resources/bin/R graph.buildbin-libdir StartedAt: 2023-10-16 09:30:50 -0400 (Mon, 16 Oct 2023) EndedAt: 2023-10-16 09:31:38 -0400 (Mon, 16 Oct 2023) EllapsedTime: 48.0 seconds RetCode: 0 Status: OK PackageFile: graph_1.78.0.tgz PackageFileSize: 1.987 MiB