Package: graph Version: 1.78.0 Command: /Library/Frameworks/R.framework/Resources/bin/R CMD build --keep-empty-dirs --no-resave-data graph StartedAt: 2023-10-15 18:42:01 -0400 (Sun, 15 Oct 2023) EndedAt: 2023-10-15 18:43:24 -0400 (Sun, 15 Oct 2023) EllapsedTime: 83.5 seconds RetCode: 0 Status: OK PackageFile: graph_1.78.0.tar.gz PackageFileSize: 1.323 MiB