Package: graph Version: 1.78.0 Command: F:\biocbuild\bbs-3.17-bioc\R\bin\R.exe CMD check --no-multiarch --install=check:graph.install-out.txt --library=F:\biocbuild\bbs-3.17-bioc\R\library --no-vignettes --timings graph_1.78.0.tar.gz StartedAt: 2023-10-16 02:48:53 -0400 (Mon, 16 Oct 2023) EndedAt: 2023-10-16 02:49:54 -0400 (Mon, 16 Oct 2023) EllapsedTime: 60.6 seconds RetCode: 0 Status: OK CheckDir: graph.Rcheck Warnings: 0