Package: gscreend Version: 1.14.0 Command: /home/biocbuild/bbs-3.17-bioc/R/bin/R CMD check --install=check:gscreend.install-out.txt --library=/home/biocbuild/bbs-3.17-bioc/R/site-library --timings gscreend_1.14.0.tar.gz StartedAt: 2023-10-15 21:52:03 -0400 (Sun, 15 Oct 2023) EndedAt: 2023-10-15 21:56:13 -0400 (Sun, 15 Oct 2023) EllapsedTime: 250.7 seconds RetCode: 1 Status: ERROR CheckDir: gscreend.Rcheck Warnings: NA