Package: gwasurvivr Version: 1.18.0 Command: /home/biocbuild/bbs-3.17-bioc/R/bin/R CMD build --keep-empty-dirs --no-resave-data gwasurvivr StartedAt: 2023-10-15 17:04:15 -0400 (Sun, 15 Oct 2023) EndedAt: 2023-10-15 17:06:43 -0400 (Sun, 15 Oct 2023) EllapsedTime: 148.6 seconds RetCode: 0 Status: OK PackageFile: gwasurvivr_1.18.0.tar.gz PackageFileSize: 343.1 KiB