Package: gwasurvivr Version: 1.18.0 Command: rm -rf gwasurvivr.buildbin-libdir && mkdir gwasurvivr.buildbin-libdir && F:\biocbuild\bbs-3.17-bioc\R\bin\R.exe CMD INSTALL --build --library=gwasurvivr.buildbin-libdir gwasurvivr_1.18.0.tar.gz StartedAt: 2023-10-16 08:55:00 -0400 (Mon, 16 Oct 2023) EndedAt: 2023-10-16 08:55:53 -0400 (Mon, 16 Oct 2023) EllapsedTime: 52.2 seconds RetCode: 0 Status: OK PackageFile: gwasurvivr_1.18.0.zip PackageFileSize: 417.3 KiB