Package: gwasurvivr Version: 1.18.0 Command: chmod a+r gwasurvivr -R && F:\biocbuild\bbs-3.17-bioc\R\bin\R.exe CMD build --keep-empty-dirs --no-resave-data gwasurvivr StartedAt: 2023-10-15 19:45:49 -0400 (Sun, 15 Oct 2023) EndedAt: 2023-10-15 19:48:14 -0400 (Sun, 15 Oct 2023) EllapsedTime: 145.5 seconds RetCode: 0 Status: OK PackageFile: gwasurvivr_1.18.0.tar.gz PackageFileSize: 343.6 KiB