Package: hierGWAS Version: 1.30.0 Command: F:\biocbuild\bbs-3.17-bioc\R\bin\R.exe CMD check --no-multiarch --install=check:hierGWAS.install-out.txt --library=F:\biocbuild\bbs-3.17-bioc\R\library --no-vignettes --timings hierGWAS_1.30.0.tar.gz StartedAt: 2023-10-16 03:02:25 -0400 (Mon, 16 Oct 2023) EndedAt: 2023-10-16 03:03:21 -0400 (Mon, 16 Oct 2023) EllapsedTime: 56.3 seconds RetCode: 0 Status: WARNINGS CheckDir: hierGWAS.Rcheck Warnings: 1