Package: hmdbQuery Version: 1.20.0 Command: /home/biocbuild/bbs-3.17-bioc/R/bin/R CMD check --install=check:hmdbQuery.install-out.txt --library=/home/biocbuild/bbs-3.17-bioc/R/site-library --timings hmdbQuery_1.20.0.tar.gz StartedAt: 2023-10-15 22:02:20 -0400 (Sun, 15 Oct 2023) EndedAt: 2023-10-15 22:03:29 -0400 (Sun, 15 Oct 2023) EllapsedTime: 69.1 seconds RetCode: 0 Status: OK CheckDir: hmdbQuery.Rcheck Warnings: 0