git_url: https://git.bioconductor.org/packages/iASeq git_branch: RELEASE_3_17 git_last_commit: 799bfac git_last_commit_date: 2023-04-25 10:22:54 -0400 (Tue, 25 Apr 2023) Package: iASeq Version: 1.44.0 Maintainer: Yingying Wei MaintainerEmail: ywei at jhsph.edu