Package: iASeq Version: 1.44.0 Command: /Library/Frameworks/R.framework/Resources/bin/R CMD check --install=check:iASeq.install-out.txt --library=/Library/Frameworks/R.framework/Resources/library --no-vignettes --timings iASeq_1.44.0.tar.gz StartedAt: 2023-10-16 02:46:16 -0400 (Mon, 16 Oct 2023) EndedAt: 2023-10-16 02:47:05 -0400 (Mon, 16 Oct 2023) EllapsedTime: 49.6 seconds RetCode: 0 Status: OK CheckDir: iASeq.Rcheck Warnings: 0