Package: iASeq Version: 1.44.0 Command: /home/biocbuild/bbs-3.17-bioc/R/bin/R CMD check --install=check:iASeq.install-out.txt --library=/home/biocbuild/bbs-3.17-bioc/R/site-library --timings iASeq_1.44.0.tar.gz StartedAt: 2023-10-15 22:05:03 -0400 (Sun, 15 Oct 2023) EndedAt: 2023-10-15 22:05:32 -0400 (Sun, 15 Oct 2023) EllapsedTime: 28.3 seconds RetCode: 0 Status: OK CheckDir: iASeq.Rcheck Warnings: 0