Package: iBMQ Version: 1.40.0 Command: /home/biocbuild/bbs-3.17-bioc/R/bin/R CMD build --keep-empty-dirs --no-resave-data iBMQ StartedAt: 2023-10-15 17:08:04 -0400 (Sun, 15 Oct 2023) EndedAt: 2023-10-15 17:08:24 -0400 (Sun, 15 Oct 2023) EllapsedTime: 20.8 seconds RetCode: 0 Status: OK PackageFile: iBMQ_1.40.0.tar.gz PackageFileSize: 3.886 MiB