Package: iBMQ Version: 1.40.0 Command: chmod a+r iBMQ -R && F:\biocbuild\bbs-3.17-bioc\R\bin\R.exe CMD build --keep-empty-dirs --no-resave-data iBMQ StartedAt: 2023-10-15 19:52:20 -0400 (Sun, 15 Oct 2023) EndedAt: 2023-10-15 19:52:53 -0400 (Sun, 15 Oct 2023) EllapsedTime: 33.2 seconds RetCode: 0 Status: OK PackageFile: iBMQ_1.40.0.tar.gz PackageFileSize: 3.886 MiB