Package: iCNV Version: 1.20.0 Command: /Library/Frameworks/R.framework/Resources/bin/R CMD check --install=check:iCNV.install-out.txt --library=/Library/Frameworks/R.framework/Resources/library --no-vignettes --timings iCNV_1.20.0.tar.gz StartedAt: 2023-10-16 02:48:03 -0400 (Mon, 16 Oct 2023) EndedAt: 2023-10-16 02:57:12 -0400 (Mon, 16 Oct 2023) EllapsedTime: 549.2 seconds RetCode: 0 Status: WARNINGS CheckDir: iCNV.Rcheck Warnings: 1