Package: iCNV Version: 1.20.0 Command: /home/biocbuild/bbs-3.17-bioc/R/bin/R CMD check --install=check:iCNV.install-out.txt --library=/home/biocbuild/bbs-3.17-bioc/R/site-library --timings iCNV_1.20.0.tar.gz StartedAt: 2023-10-15 22:06:17 -0400 (Sun, 15 Oct 2023) EndedAt: 2023-10-15 22:11:23 -0400 (Sun, 15 Oct 2023) EllapsedTime: 305.7 seconds RetCode: 0 Status: WARNINGS CheckDir: iCNV.Rcheck Warnings: 1