Package: iCNV Version: 1.20.0 Command: chmod a+r iCNV -R && F:\biocbuild\bbs-3.17-bioc\R\bin\R.exe CMD build --keep-empty-dirs --no-resave-data iCNV StartedAt: 2023-10-15 19:52:55 -0400 (Sun, 15 Oct 2023) EndedAt: 2023-10-15 19:56:50 -0400 (Sun, 15 Oct 2023) EllapsedTime: 234.6 seconds RetCode: 0 Status: OK PackageFile: iCNV_1.20.0.tar.gz PackageFileSize: 1.765 MiB