Package: iCOBRA Version: 1.28.1 Command: /home/biocbuild/bbs-3.17-bioc/R/bin/R CMD build --keep-empty-dirs --no-resave-data iCOBRA StartedAt: 2023-10-15 17:08:24 -0400 (Sun, 15 Oct 2023) EndedAt: 2023-10-15 17:08:48 -0400 (Sun, 15 Oct 2023) EllapsedTime: 24.5 seconds RetCode: 0 Status: OK PackageFile: iCOBRA_1.28.1.tar.gz PackageFileSize: 3.014 MiB