Package: iCOBRA Version: 1.28.1 Command: rm -rf iCOBRA.buildbin-libdir && mkdir iCOBRA.buildbin-libdir && F:\biocbuild\bbs-3.17-bioc\R\bin\R.exe CMD INSTALL --build --library=iCOBRA.buildbin-libdir iCOBRA_1.28.1.tar.gz StartedAt: 2023-10-16 08:57:03 -0400 (Mon, 16 Oct 2023) EndedAt: 2023-10-16 08:57:27 -0400 (Mon, 16 Oct 2023) EllapsedTime: 23.6 seconds RetCode: 0 Status: OK PackageFile: iCOBRA_1.28.1.zip PackageFileSize: 2.427 MiB