Package: iSEE Version: 2.12.0 Command: rm -rf iSEE.buildbin-libdir && mkdir iSEE.buildbin-libdir && /Users/biocbuild/BBS/utils/build-universal.sh iSEE_2.12.0.tar.gz /Library/Frameworks/R.framework/Resources/bin/R iSEE.buildbin-libdir StartedAt: 2023-10-16 09:36:02 -0400 (Mon, 16 Oct 2023) EndedAt: 2023-10-16 09:38:40 -0400 (Mon, 16 Oct 2023) EllapsedTime: 157.9 seconds RetCode: 0 Status: OK PackageFile: iSEE_2.12.0.tgz PackageFileSize: 22.16 MiB