Package: iSEEhub Version: 1.2.1 Command: chmod a+r iSEEhub -R && F:\biocbuild\bbs-3.17-bioc\R\bin\R.exe CMD build --keep-empty-dirs --no-resave-data iSEEhub StartedAt: 2023-10-15 20:00:54 -0400 (Sun, 15 Oct 2023) EndedAt: 2023-10-15 20:02:06 -0400 (Sun, 15 Oct 2023) EllapsedTime: 72.3 seconds RetCode: 0 Status: OK PackageFile: iSEEhub_1.2.1.tar.gz PackageFileSize: 6.619 MiB