Package: iSeq Version: 1.52.0 Command: /home/biocbuild/bbs-3.17-bioc/R/bin/R CMD build --keep-empty-dirs --no-resave-data iSeq StartedAt: 2023-10-15 17:12:54 -0400 (Sun, 15 Oct 2023) EndedAt: 2023-10-15 17:13:14 -0400 (Sun, 15 Oct 2023) EllapsedTime: 20.3 seconds RetCode: 0 Status: OK PackageFile: iSeq_1.52.0.tar.gz PackageFileSize: 1.199 MiB