Package: iSeq Version: 1.52.0 Command: /home/biocbuild/bbs-3.17-bioc/R/bin/R CMD INSTALL iSeq StartedAt: 2023-10-15 15:06:40 -0400 (Sun, 15 Oct 2023) EndedAt: 2023-10-15 15:06:49 -0400 (Sun, 15 Oct 2023) EllapsedTime: 8.5 seconds RetCode: 0 Status: OK