Package: icetea Version: 1.18.1 Command: /home/biocbuild/bbs-3.17-bioc/R/bin/R CMD INSTALL icetea StartedAt: 2023-10-15 15:28:46 -0400 (Sun, 15 Oct 2023) EndedAt: 2023-10-15 15:29:34 -0400 (Sun, 15 Oct 2023) EllapsedTime: 48.5 seconds RetCode: 0 Status: OK