Package: icetea Version: 1.18.1 Command: set _R_CHECK_FORCE_SUGGESTS_=0&& F:\biocbuild\bbs-3.17-bioc\R\bin\R.exe CMD check --no-multiarch --install=check:icetea.install-out.txt --library=F:\biocbuild\bbs-3.17-bioc\R\library --no-vignettes --timings icetea_1.18.1.tar.gz StartedAt: 2023-10-16 03:08:35 -0400 (Mon, 16 Oct 2023) EndedAt: 2023-10-16 03:15:26 -0400 (Mon, 16 Oct 2023) EllapsedTime: 410.8 seconds RetCode: 0 Status: WARNINGS CheckDir: icetea.Rcheck Warnings: 1